BEGIN:VCALENDAR
VERSION:2.0
PRODID:-//Library Market//iCal Export//EN
BEGIN:VEVENT
SUMMARY:Creeks Edge Dr: Newark
UID:26596
DTSTAMP:20260421T072200Z
DTSTART:20260819T210000Z
DTEND:20260819T214500Z
LOCATION:Creeks Edge Dr., Newark, OH 43055, United States
ROOM: Creeks Edge Dr: Newark
DESCRIPTION:The Mobile Library is visiting your community! Browse books fo
 r all ages and enjoy creative crafts, games, and interactive displays for 
 children and adults.
URL:https://events.lickingcountylibrary.org/event/meadowland-drive-newark-
 26596
END:VEVENT
END:VCALENDAR
