BEGIN:VCALENDAR
VERSION:2.0
PRODID:-//Library Market//iCal Export//EN
BEGIN:VEVENT
SUMMARY:Irish Lane: Newark
UID:26584
DTSTAMP:20260421T072300Z
DTSTART:20260819T200000Z
DTEND:20260819T204500Z
LOCATION:Irish Ln., Newark, OH 43055, United States
ROOM: Irish Lane: Newark
DESCRIPTION:The Mobile Library is visiting your community! Browse books fo
 r all ages and enjoy creative crafts, games, and interactive displays for 
 children and adults.
URL:https://events.lickingcountylibrary.org/event/irish-lane-newark-26584
END:VEVENT
END:VCALENDAR
