BEGIN:VCALENDAR
VERSION:2.0
PRODID:-//Library Market//iCal Export//EN
BEGIN:VEVENT
SUMMARY:Welcome Road: Newark
UID:26572
DTSTAMP:20260421T072300Z
DTSTART:20260819T191500Z
DTEND:20260819T194500Z
LOCATION:Welcome Rd., Newark, OH 43055, United States
ROOM: Welcome Road: Newark
DESCRIPTION:The Mobile Library is visiting your community! Browse books fo
 r all ages and enjoy creative crafts, games, and interactive displays for 
 children and adults.
URL:https://events.lickingcountylibrary.org/event/welcome-road-newark-2657
 2
END:VEVENT
END:VCALENDAR
