BEGIN:VCALENDAR
VERSION:2.0
PRODID:-//Library Market//iCal Export//EN
BEGIN:VEVENT
SUMMARY:Amber Mobile Home Park: Heath
UID:26229
DTSTAMP:20260421T052900Z
DTSTART:20260831T210000Z
DTEND:20260831T213000Z
LOCATION:Amber Mobile Home, 152 Irving Wick Dr. E, Heath, OH 43056, United
  States
ROOM: Amber Mobile Home Park: Heath
DESCRIPTION:The Mobile Library is visiting your community! Browse books fo
 r all ages and enjoy creative crafts, games, and interactive displays for 
 children and adults.
URL:https://events.lickingcountylibrary.org/event/amber-mobile-home-park-h
 eath-26229
END:VEVENT
END:VCALENDAR
