BEGIN:VCALENDAR
VERSION:2.0
PRODID:-//Library Market//iCal Export//EN
BEGIN:VEVENT
SUMMARY:Reddington Rd. S: Newark
UID:23092
DTSTAMP:20260421T014900Z
DTSTART:20260727T190000Z
DTEND:20260727T193000Z
LOCATION:Reddington Rd. S, Reddington Rd. S, Newark , OH 43055, United Sta
 tes
ROOM: Reddington Rd. S: Newark
DESCRIPTION:Visit our Mobile Library!
URL:https://events.lickingcountylibrary.org/event/reddington-rd-s-newark-2
 3092
END:VEVENT
END:VCALENDAR
